BEGIN:VCALENDAR
VERSION:2.0
PRODID:SchoolNow
CALSCALE:GREGORIAN
BEGIN:VEVENT
UID:b09e7210-de24-11ed-9d24-0292a2bbe34b
DTSTAMP:20230418T200748Z
SUMMARY:2023 Fall 1st Half Term Classes End
URL;VALUE=URI:https://www.ladelta.edu/calendar/4077490/2023-fall-1st-half-t
 erm-classes-end
DTSTART;VALUE=DATE:20231003
DTEND;VALUE=DATE:20231004
END:VEVENT
END:VCALENDAR
