BEGIN:VCALENDAR
VERSION:2.0
PRODID:SchoolNow
CALSCALE:GREGORIAN
BEGIN:VEVENT
UID:bacb1f2c-de24-11ed-940b-0292a2bbe34b
DTSTAMP:20230418T200805Z
SUMMARY:2023 Fall Break for Students.
URL;VALUE=URI:https://www.ladelta.edu/calendar/4077491/2023-fall-break-for-
 students
DTSTART;VALUE=DATE:20231005
DTEND;VALUE=DATE:20231007
END:VEVENT
END:VCALENDAR
