BEGIN:VCALENDAR
VERSION:2.0
PRODID:SchoolNow
CALSCALE:GREGORIAN
BEGIN:VEVENT
UID:c4b49e8c-de24-11ed-b4a9-0292a2bbe34b
DTSTAMP:20230418T200821Z
SUMMARY:2023 Fall 2nd Half Term Classes Begin
URL;VALUE=URI:https://www.ladelta.edu/calendar/4077492/2023-fall-2nd-half-t
 erm-classes-begin
DTSTART;VALUE=DATE:20231009
DTEND;VALUE=DATE:20231010
END:VEVENT
END:VCALENDAR
