BEGIN:VCALENDAR
VERSION:2.0
PRODID:SchoolNow
CALSCALE:GREGORIAN
BEGIN:VEVENT
UID:cd036a5a-de24-11ed-81f3-0292a2bbe34b
DTSTAMP:20230418T200835Z
SUMMARY:2023 Fall Semester - Final date to add/drop a second half-semester 
 class at 11:59 p.m.
URL;VALUE=URI:https://www.ladelta.edu/calendar/4077493/2023-fall-semester-f
 inal-date-to-add-drop-a-second-half-semester-class-at-11-59-p-m
DTSTART;VALUE=DATE:20231010
DTEND;VALUE=DATE:20231011
END:VEVENT
END:VCALENDAR
