BEGIN:VCALENDAR
VERSION:2.0
PRODID:SchoolNow
CALSCALE:GREGORIAN
BEGIN:VEVENT
UID:da6a808e-de24-11ed-9957-0292a2bbe34b
DTSTAMP:20230418T201545Z
SUMMARY:2023 Fall - Last Day to receive 100% tuition refund for 2nd 8-week 
 courses that began on October 9\, 2023.
URL;VALUE=URI:https://www.ladelta.edu/calendar/4077494/2023-fall-last-day-t
 o-receive-100-tuition-refund-for-2nd-8-week-courses-that-began-on-october-
 9-2023
DTSTART;VALUE=DATE:20231010
DTEND;VALUE=DATE:20231011
END:VEVENT
END:VCALENDAR
