BEGIN:VCALENDAR
VERSION:2.0
PRODID:SchoolNow
CALSCALE:GREGORIAN
BEGIN:VEVENT
UID:e9642f08-de25-11ed-a91f-0e11576c7e9f
DTSTAMP:20230418T201632Z
SUMMARY:2023 Fall Final Fee Payment Deadline for 2nd Half Term Classes at 2
 :00 PM then 1st purge for non-payment after 2:00 PM. Registration is close
 d
URL;VALUE=URI:https://www.ladelta.edu/calendar/4077495/2023-fall-final-fee-
 payment-deadline-for-2nd-half-term-classes-at-2-00-pm-then-1st-purge-for-n
 on-payment-after-2-00-pm-registration-is-closed
DTSTART;VALUE=DATE:20231012
DTEND;VALUE=DATE:20231013
END:VEVENT
END:VCALENDAR
