BEGIN:VCALENDAR
VERSION:2.0
PRODID:SchoolNow
CALSCALE:GREGORIAN
BEGIN:VEVENT
UID:f3b858f8-de25-11ed-abd7-0e11576c7e9f
DTSTAMP:20230418T201650Z
SUMMARY:2023 Fall - Final date to withdraw from a full semester class with 
 a grade of 'W."
URL;VALUE=URI:https://www.ladelta.edu/calendar/4077496/2023-fall-final-date
 -to-withdraw-from-a-full-semester-class-with-a-grade-of-w
DTSTART;VALUE=DATE:20231109
DTEND;VALUE=DATE:20231110
END:VEVENT
END:VCALENDAR
