BEGIN:VCALENDAR
VERSION:2.0
PRODID:SchoolNow
CALSCALE:GREGORIAN
BEGIN:VEVENT
UID:fe1bf1c4-de25-11ed-83cf-0e11576c7e9f
DTSTAMP:20230418T201707Z
SUMMARY:2023 Fall  - Final date to withdraw from a 2nd half-term class with
  a grade of 'W'.
URL;VALUE=URI:https://www.ladelta.edu/calendar/4077497/2023-fall-final-date
 -to-withdraw-from-a-2nd-half-term-class-with-a-grade-of-w
DTSTART;VALUE=DATE:20231120
DTEND;VALUE=DATE:20231121
END:VEVENT
END:VCALENDAR
