BEGIN:VCALENDAR
VERSION:2.0
PRODID:SchoolNow
CALSCALE:GREGORIAN
BEGIN:VEVENT
UID:0ce9eda0-de26-11ed-a8ee-0e11576c7e9f
DTSTAMP:20230418T201732Z
SUMMARY:2023 Fall -  Thanksgiving Holiday.  All campuses closed.
URL;VALUE=URI:https://www.ladelta.edu/calendar/4077498/2023-fall-thanksgivi
 ng-holiday-all-campuses-closed
DTSTART;VALUE=DATE:20231123
DTEND;VALUE=DATE:20231125
END:VEVENT
END:VCALENDAR
