BEGIN:VCALENDAR
VERSION:2.0
PRODID:SchoolNow
CALSCALE:GREGORIAN
BEGIN:VEVENT
UID:1682c9ae-de26-11ed-8371-0e11576c7e9f
DTSTAMP:20230418T201748Z
SUMMARY:2023 Fall - Students return to classes after Thanksgiving Holiday.
URL;VALUE=URI:https://www.ladelta.edu/calendar/4077499/2023-fall-students-r
 eturn-to-classes-after-thanksgiving-holiday
DTSTART;VALUE=DATE:20231127
DTEND;VALUE=DATE:20231128
END:VEVENT
END:VCALENDAR
