BEGIN:VCALENDAR
VERSION:2.0
PRODID:SchoolNow
CALSCALE:GREGORIAN
BEGIN:VEVENT
UID:27606b28-de26-11ed-9b5a-0e11576c7e9f
DTSTAMP:20230418T201816Z
SUMMARY:2023 Fall - Final Exams Days
URL;VALUE=URI:https://www.ladelta.edu/calendar/4077500/2023-fall-final-exam
 s-days
DTSTART;VALUE=DATE:20231127
DTEND;VALUE=DATE:20231202
END:VEVENT
END:VCALENDAR
