BEGIN:VCALENDAR
VERSION:2.0
PRODID:SchoolNow
CALSCALE:GREGORIAN
BEGIN:VEVENT
UID:2fc07ca4-de26-11ed-a899-0e11576c7e9f
DTSTAMP:20230418T201830Z
SUMMARY:2023 Fall - Final day of classes-Official end of semester date.
URL;VALUE=URI:https://www.ladelta.edu/calendar/4077501/2023-fall-final-day-
 of-classes-official-end-of-semester-date
DTSTART;VALUE=DATE:20231201
DTEND;VALUE=DATE:20231202
END:VEVENT
END:VCALENDAR
