BEGIN:VCALENDAR
VERSION:2.0
PRODID:SchoolNow
CALSCALE:GREGORIAN
BEGIN:VEVENT
UID:40b40f3a-de26-11ed-8a2b-0e11576c7e9f
DTSTAMP:20230418T201859Z
SUMMARY:2023 Fall - All fall grades due by noon.
URL;VALUE=URI:https://www.ladelta.edu/calendar/4077502/2023-fall-all-fall-g
 rades-due-by-noon
DTSTART;VALUE=DATE:20231204
DTEND;VALUE=DATE:20231205
END:VEVENT
END:VCALENDAR
