BEGIN:VCALENDAR
VERSION:2.0
PRODID:SchoolNow
CALSCALE:GREGORIAN
BEGIN:VEVENT
UID:505b964c-de26-11ed-a29f-0e11576c7e9f
DTSTAMP:20230418T201925Z
SUMMARY:2023 Fall Degree Award Date.
URL;VALUE=URI:https://www.ladelta.edu/calendar/4077503/2023-fall-degree-awa
 rd-date
DTSTART;VALUE=DATE:20231208
DTEND;VALUE=DATE:20231209
END:VEVENT
END:VCALENDAR
