BEGIN:VCALENDAR
VERSION:2.0
PRODID:SchoolNow
CALSCALE:GREGORIAN
BEGIN:VEVENT
UID:707125ea-de27-11ed-8e7e-025f5c5dec91
DTSTAMP:20230418T202728Z
SUMMARY:2023-Summer- Fourth of July- All Campuses Closed
URL;VALUE=URI:https://www.ladelta.edu/calendar/4077504/2023-summer-fourth-o
 f-july-all-campuses-closed
DTSTART;VALUE=DATE:20230704
DTEND;VALUE=DATE:20230705
END:VEVENT
END:VCALENDAR
