BEGIN:VCALENDAR
VERSION:2.0
PRODID:SchoolNow
CALSCALE:GREGORIAN
BEGIN:VEVENT
UID:e117f2ce-de27-11ed-a6da-025f5c5dec91
DTSTAMP:20230418T203037Z
SUMMARY:2023 Summer- Memorial Day- All Campuses Closed
URL;VALUE=URI:https://www.ladelta.edu/calendar/4077505/2023-summer-memorial
 -day-all-campuses-closed
DTSTART;VALUE=DATE:20230529
DTEND;VALUE=DATE:20230530
END:VEVENT
END:VCALENDAR
