BEGIN:VCALENDAR
VERSION:2.0
PRODID:SchoolNow
CALSCALE:GREGORIAN
BEGIN:VEVENT
UID:631b901e-de28-11ed-a41c-025f5c5dec91
DTSTAMP:20230418T203416Z
SUMMARY:2023 Fall - Christmas Holiday.  All Campuses closed.
URL;VALUE=URI:https://www.ladelta.edu/calendar/4077506/2023-fall-christmas-
 holiday-all-campuses-closed
DTSTART;VALUE=DATE:20231222
DTEND;VALUE=DATE:20231230
END:VEVENT
END:VCALENDAR
