BEGIN:VCALENDAR
VERSION:2.0
PRODID:SchoolNow
CALSCALE:GREGORIAN
BEGIN:VEVENT
UID:6e20c042-de28-11ed-9da6-025f5c5dec91
DTSTAMP:20231214T141233Z
SUMMARY:All Campuses Closed for Convocation
URL;VALUE=URI:https://www.ladelta.edu/calendar/4077507/all-campuses-open-af
 ter-christmas-new-year-holiday
DTSTART;VALUE=DATE:20240102
DTEND;VALUE=DATE:20240103
END:VEVENT
END:VCALENDAR
