BEGIN:VCALENDAR
VERSION:2.0
PRODID:SchoolNow
CALSCALE:GREGORIAN
BEGIN:VEVENT
UID:df6bcfd2-7345-11ee-a3e7-0a4d7c5ab48d
DTSTAMP:20231025T153226Z
SUMMARY:2024 Spring Registration begins for Veterans (only)
URL;VALUE=URI:https://www.ladelta.edu/calendar/4899437/2024-spring-registra
 tion-begins-for-veterans-only
DTSTART;VALUE=DATE:20231026
DTEND;VALUE=DATE:20231027
END:VEVENT
END:VCALENDAR
