BEGIN:VCALENDAR
VERSION:2.0
PRODID:SchoolNow
CALSCALE:GREGORIAN
BEGIN:VEVENT
UID:0e8e9b96-7346-11ee-b04e-0a58a9feac02
DTSTAMP:20231025T153248Z
SUMMARY:2024 Spring Registration for currently enrolled students opens and 
 continues through future published deadlines.
URL;VALUE=URI:https://www.ladelta.edu/calendar/4899438/2024-spring-registra
 tion-for-currently-enrolled-students-opens-and-continues-through-future-pu
 blished-deadlines
DTSTART;VALUE=DATE:20231030
DTEND;VALUE=DATE:20231031
END:VEVENT
END:VCALENDAR
