BEGIN:VCALENDAR
VERSION:2.0
PRODID:SchoolNow
CALSCALE:GREGORIAN
BEGIN:VEVENT
UID:2a34d4dc-7346-11ee-8367-0a84cbf50c33
DTSTAMP:20231025T153253Z
SUMMARY:2024 Spring Registration for new students opens and continues throu
 gh future published deadlines.
URL;VALUE=URI:https://www.ladelta.edu/calendar/4899439/2024-spring-registra
 tion-for-new-students-opens-and-continues-through-future-published-deadlin
 es
DTSTART;VALUE=DATE:20231106
DTEND;VALUE=DATE:20231107
END:VEVENT
END:VCALENDAR
