BEGIN:VCALENDAR
VERSION:2.0
PRODID:SchoolNow
CALSCALE:GREGORIAN
BEGIN:VEVENT
UID:6fd5c006-734a-11ee-9e99-0a5cf4152bd5
DTSTAMP:20231025T153108Z
SUMMARY:2023-24 Winter Term Classes begin.
URL;VALUE=URI:https://www.ladelta.edu/calendar/4899440/2022-winter-term-cla
 sses-begin
DTSTART;VALUE=DATE:20231205
DTEND;VALUE=DATE:20231206
END:VEVENT
END:VCALENDAR
