BEGIN:VCALENDAR
VERSION:2.0
PRODID:SchoolNow
CALSCALE:GREGORIAN
BEGIN:VEVENT
UID:0cd277fa-734b-11ee-a395-0e5ede1202fd
DTSTAMP:20231025T153115Z
SUMMARY:2023-24 Winter - Final date to add a class at midnight.
URL;VALUE=URI:https://www.ladelta.edu/calendar/4899443/2023-24-winter-final
 -date-to-add-a-class-at-midnight
DTSTART;VALUE=DATE:20231206
DTEND;VALUE=DATE:20231207
END:VEVENT
END:VCALENDAR
