BEGIN:VCALENDAR
VERSION:2.0
PRODID:SchoolNow
CALSCALE:GREGORIAN
BEGIN:VEVENT
UID:5f5e1aba-734b-11ee-9daf-029b03c358bf
DTSTAMP:20231025T153121Z
SUMMARY:2023-24 Winter - Final fee payment deadline at 2:00 PM and purge fo
 r non-payment after 2:00 PM
URL;VALUE=URI:https://www.ladelta.edu/calendar/4899444/2023-24-winter-final
 -fee-payment-deadline-at-2-00-pm-and-purge-for-non-payment-after-2-00-pm
DTSTART:20231207T200000Z
DTEND:20231207T210000Z
END:VEVENT
END:VCALENDAR
