BEGIN:VCALENDAR
VERSION:2.0
PRODID:SchoolNow
CALSCALE:GREGORIAN
BEGIN:VEVENT
UID:d41bccda-734b-11ee-9355-0a4d7c5ab48d
DTSTAMP:20231204T155846Z
SUMMARY:2023-24 Winter - Final date to withdraw from a Winter Term class wi
 th a grade of 'W' at midnight.
URL;VALUE=URI:https://www.ladelta.edu/calendar/4899445/2023-24-winter-final
 -date-to-withdraw-from-a-winter-term-class-with-a-grade-of-w-at-midnight
DTSTART;VALUE=DATE:20231227
DTEND;VALUE=DATE:20231228
END:VEVENT
END:VCALENDAR
