BEGIN:VCALENDAR
VERSION:2.0
PRODID:SchoolNow
CALSCALE:GREGORIAN
BEGIN:VEVENT
UID:e50e3b9a-734b-11ee-a8f5-02be8dc06e49
DTSTAMP:20231025T153349Z
SUMMARY:2024 Spring Registration closes at 2:00 PM
URL;VALUE=URI:https://www.ladelta.edu/calendar/4899446/2024-spring-registra
 tion-closes-at-2-00-pm
DTSTART:20240104T200000Z
DTEND:20240104T210000Z
END:VEVENT
END:VCALENDAR
