BEGIN:VCALENDAR
VERSION:2.0
PRODID:SchoolNow
CALSCALE:GREGORIAN
BEGIN:VEVENT
UID:f8a7a4f2-734b-11ee-85fc-0a58a9feac02
DTSTAMP:20231025T153422Z
SUMMARY:2024 Spring Fee Payment Deadline at 2:00 PM then 1st purge for non-
 payment after 2:00 PM.
URL;VALUE=URI:https://www.ladelta.edu/calendar/4899447/2024-spring-fee-paym
 ent-deadline-at-2-00-pm-then-1st-purge-for-non-payment-after-2-00-pm
DTSTART:20240104T200000Z
DTEND:20240104T210000Z
END:VEVENT
END:VCALENDAR
