BEGIN:VCALENDAR
VERSION:2.0
PRODID:SchoolNow
CALSCALE:GREGORIAN
BEGIN:VEVENT
UID:19ae5150-734c-11ee-8164-0a5cf4152bd5
DTSTAMP:20231025T153518Z
SUMMARY:2023-24 Winter Term Finals-Last Day of Winter Term Classes.
URL;VALUE=URI:https://www.ladelta.edu/calendar/4899448/2023-24-winter-term-
 finals-last-day-of-winter-term-classes
DTSTART;VALUE=DATE:20240104
DTEND;VALUE=DATE:20240105
END:VEVENT
END:VCALENDAR
