BEGIN:VCALENDAR
VERSION:2.0
PRODID:SchoolNow
CALSCALE:GREGORIAN
BEGIN:VEVENT
UID:0bba4706-734d-11ee-a32e-0a58a9feac02
DTSTAMP:20231025T154204Z
SUMMARY:2024 Spring Semester - Late Registration and Drop/Add using LoLA Se
 lf-Service.  Friday\, January 5\, 2024\, 12:01 AM - Thursday\, January 11\
 , 2024\, 2:00 PM.
URL;VALUE=URI:https://www.ladelta.edu/calendar/4899449/2024-spring-semester
 -late-registration-and-drop-add-using-lola-self-service-friday-january-5-2
 024-12-01-am-thursday-january-11-2024-2-00-pm
DTSTART;VALUE=DATE:20240105
DTEND;VALUE=DATE:20240106
END:VEVENT
END:VCALENDAR
