BEGIN:VCALENDAR
VERSION:2.0
PRODID:SchoolNow
CALSCALE:GREGORIAN
BEGIN:VEVENT
UID:8aee62f0-734d-11ee-b4d7-0a58a9feac02
DTSTAMP:20231025T154537Z
SUMMARY:2024 Spring Semester Classes Begin.
URL;VALUE=URI:https://www.ladelta.edu/calendar/4899450/2024-spring-semester
 -classes-begin
DTSTART;VALUE=DATE:20240108
DTEND;VALUE=DATE:20240109
END:VEVENT
END:VCALENDAR
