BEGIN:VCALENDAR
VERSION:2.0
PRODID:SchoolNow
CALSCALE:GREGORIAN
BEGIN:VEVENT
UID:9e6949f8-734d-11ee-ae01-022fbfa454a9
DTSTAMP:20231025T154610Z
SUMMARY:2024 Spring Semester - Final date to add a first half-semester clas
 s at midnight.
URL;VALUE=URI:https://www.ladelta.edu/calendar/4899451/2024-spring-semester
 -final-date-to-add-a-first-half-semester-class-at-midnight
DTSTART;VALUE=DATE:20240109
DTEND;VALUE=DATE:20240110
END:VEVENT
END:VCALENDAR
