BEGIN:VCALENDAR
VERSION:2.0
PRODID:SchoolNow
CALSCALE:GREGORIAN
BEGIN:VEVENT
UID:aa8505c4-734d-11ee-ace5-02c2b6a7b9d3
DTSTAMP:20231025T155602Z
SUMMARY:2024 Spring - Last Day for 100% tuition refund for 1st 8-week cours
 es only
URL;VALUE=URI:https://www.ladelta.edu/calendar/4899452/2024-spring-100-tuit
 ion-refund-for-1st-8-week-courses-only
DTSTART;VALUE=DATE:20240109
DTEND;VALUE=DATE:20240110
END:VEVENT
END:VCALENDAR
