BEGIN:VCALENDAR
VERSION:2.0
PRODID:SchoolNow
CALSCALE:GREGORIAN
BEGIN:VEVENT
UID:bea79666-734d-11ee-8f5a-020d5ab68435
DTSTAMP:20231025T154704Z
SUMMARY:2024 Spring Semester - Final date to add a full semester class by 2
 :00 PM.
URL;VALUE=URI:https://www.ladelta.edu/calendar/4899453/2024-spring-semester
 -final-date-to-add-a-full-semester-class-by-2-00-pm
DTSTART:20240111T200000Z
DTEND:20240111T210000Z
END:VEVENT
END:VCALENDAR
