BEGIN:VCALENDAR
VERSION:2.0
PRODID:SchoolNow
CALSCALE:GREGORIAN
BEGIN:VEVENT
UID:f73bab48-734d-11ee-bdf9-0aeab8a33e23
DTSTAMP:20231025T154839Z
SUMMARY:2024 Spring- Last Day for 100% tuition refund for Full-semester dro
 pped courses
URL;VALUE=URI:https://www.ladelta.edu/calendar/4899455/2024-spring-last-day
 -for-100-tuition-refund-for-full-semester-dropped-courses
DTSTART:20240111T200000Z
DTEND:20240111T210000Z
END:VEVENT
END:VCALENDAR
