BEGIN:VCALENDAR
VERSION:2.0
PRODID:SchoolNow
CALSCALE:GREGORIAN
BEGIN:VEVENT
UID:341262f0-734e-11ee-8f6a-0a58a9feac02
DTSTAMP:20240119T191308Z
SUMMARY:2024 Spring -Last Day for 50% tuition refund for Full-semester drop
 ped courses
URL;VALUE=URI:https://www.ladelta.edu/calendar/4899456/2024-spring-last-day
 -for-50-tuition-refund-for-full-semester-dropped-courses
DTSTART;VALUE=DATE:20240124
DTEND;VALUE=DATE:20240125
END:VEVENT
END:VCALENDAR
