BEGIN:VCALENDAR
VERSION:2.0
PRODID:SchoolNow
CALSCALE:GREGORIAN
BEGIN:VEVENT
UID:76850f02-734e-11ee-9ee1-0a58a9feac02
DTSTAMP:20240130T170126Z
SUMMARY:Spring 2024 - Last Day for 25% tuition refund for Full-semester dro
 pped courses
URL;VALUE=URI:https://www.ladelta.edu/calendar/4899457/2024-spring-last-day
 -for-25-tuition-refund-for-full-semester-dropped-courses
DTSTART;VALUE=DATE:20240131
DTEND;VALUE=DATE:20240201
END:VEVENT
END:VCALENDAR
