BEGIN:VCALENDAR
VERSION:2.0
PRODID:SchoolNow
CALSCALE:GREGORIAN
BEGIN:VEVENT
UID:839c3332-734e-11ee-9b64-0e893b1e6a55
DTSTAMP:20231025T155234Z
SUMMARY:2024 Spring - Final Fee payment deadline for all  classes at 2:00 P
 M and final purge for non-payment after 2:00 PM.
URL;VALUE=URI:https://www.ladelta.edu/calendar/4899458/2024-spring-final-fe
 e-payment-deadline-for-all-classes-at-2-00-pm-and-final-purge-for-non-paym
 ent-after-2-00-pm
DTSTART:20240111T200000Z
DTEND:20240111T210000Z
END:VEVENT
END:VCALENDAR
