BEGIN:VCALENDAR
VERSION:2.0
PRODID:SchoolNow
CALSCALE:GREGORIAN
BEGIN:VEVENT
UID:8c3a6cd4-734e-11ee-b069-02be8dc06e49
DTSTAMP:20231025T155249Z
SUMMARY:2024 Spring - MLK Day Holiday.  All Campuses Closed.
URL;VALUE=URI:https://www.ladelta.edu/calendar/4899459/2024-spring-mlk-day-
 holiday-all-campuses-closed
DTSTART;VALUE=DATE:20240115
DTEND;VALUE=DATE:20240116
END:VEVENT
END:VCALENDAR
