BEGIN:VCALENDAR
VERSION:2.0
PRODID:SchoolNow
CALSCALE:GREGORIAN
BEGIN:VEVENT
UID:24053bd4-734f-11ee-9b6c-0e893b1e6a55
DTSTAMP:20240130T170144Z
SUMMARY:Spring 2024- Mardi Gras Break for Students.
URL;VALUE=URI:https://www.ladelta.edu/calendar/4899460/2024-spring-mardi-gr
 as-break-for-students
DTSTART;VALUE=DATE:20240212
DTEND;VALUE=DATE:20240214
END:VEVENT
END:VCALENDAR
