BEGIN:VCALENDAR
VERSION:2.0
PRODID:SchoolNow
CALSCALE:GREGORIAN
BEGIN:VEVENT
UID:4d0e83c8-734f-11ee-98c5-0a58a9feac02
DTSTAMP:20240130T170203Z
SUMMARY:Spring 2024- Final date to withdraw from a 1st half-term class with
  a grade of 'W'.
URL;VALUE=URI:https://www.ladelta.edu/calendar/4899461/2024-spring-final-da
 te-to-withdraw-from-a-1st-half-term-class-with-a-grade-of-w
DTSTART;VALUE=DATE:20240219
DTEND;VALUE=DATE:20240220
END:VEVENT
END:VCALENDAR
