BEGIN:VCALENDAR
VERSION:2.0
PRODID:SchoolNow
CALSCALE:GREGORIAN
BEGIN:VEVENT
UID:6e0a64c0-734f-11ee-a188-0a84cbf50c33
DTSTAMP:20240130T170227Z
SUMMARY:Spring 2024- Final exams for accelerated courses which end February
  29
URL;VALUE=URI:https://www.ladelta.edu/calendar/4899462/2024-spring-final-ex
 ams-for-accelerated-courses-which-end-february-29
DTSTART;VALUE=DATE:20240229
DTEND;VALUE=DATE:20240301
END:VEVENT
END:VCALENDAR
