BEGIN:VCALENDAR
VERSION:2.0
PRODID:SchoolNow
CALSCALE:GREGORIAN
BEGIN:VEVENT
UID:78381000-734f-11ee-ac22-0a58a9feac02
DTSTAMP:20240130T170248Z
SUMMARY:Spring 2024- Second Half Term Classes Begin
URL;VALUE=URI:https://www.ladelta.edu/calendar/4899463/2024-spring-second-h
 alf-term-classes-begin
DTSTART;VALUE=DATE:20240304
DTEND;VALUE=DATE:20240305
END:VEVENT
END:VCALENDAR
