BEGIN:VCALENDAR
VERSION:2.0
PRODID:SchoolNow
CALSCALE:GREGORIAN
BEGIN:VEVENT
UID:9363f8bc-734f-11ee-a2b5-0a58a9feac02
DTSTAMP:20240130T170257Z
SUMMARY:Spring 2024- Last day of 100% tuition refund for 2nd 8-week courses
  only
URL;VALUE=URI:https://www.ladelta.edu/calendar/4899464/2024-spring-last-day
 -of-100-tuition-refund-for-2nd-8-week-courses-only
DTSTART;VALUE=DATE:20240305
DTEND;VALUE=DATE:20240306
END:VEVENT
END:VCALENDAR
