BEGIN:VCALENDAR
VERSION:2.0
PRODID:SchoolNow
CALSCALE:GREGORIAN
BEGIN:VEVENT
UID:a0c28ed8-734f-11ee-9610-0e5ede1202fd
DTSTAMP:20240130T170307Z
SUMMARY:Spring 2024- Second Half Term Tuition due at 2:00 - Purge for non-p
 ayment afterward
URL;VALUE=URI:https://www.ladelta.edu/calendar/4899465/2024-spring-second-h
 alf-term-tuition-due-at-2-00-purge-for-non-payment-afterward
DTSTART:20240307T200000Z
DTEND:20240307T210000Z
END:VEVENT
END:VCALENDAR
