BEGIN:VCALENDAR
VERSION:2.0
PRODID:SchoolNow
CALSCALE:GREGORIAN
BEGIN:VEVENT
UID:c24b4978-734f-11ee-bebd-0a5cf4152bd5
DTSTAMP:20240130T170153Z
SUMMARY:Spring 2024- Midterms due for 1st 8 week classes
URL;VALUE=URI:https://www.ladelta.edu/calendar/4899466/2024-spring-midterms
 -due-for-1st-8-week-classes
DTSTART;VALUE=DATE:20240214
DTEND;VALUE=DATE:20240215
END:VEVENT
END:VCALENDAR
