BEGIN:VCALENDAR
VERSION:2.0
PRODID:SchoolNow
CALSCALE:GREGORIAN
BEGIN:VEVENT
UID:d1e86da2-734f-11ee-92ac-029b03c358bf
DTSTAMP:20240130T170319Z
SUMMARY:Spring 2024- Midterms due for Full Semester Courses
URL;VALUE=URI:https://www.ladelta.edu/calendar/4899467/2024-spring-midterms
 -due-for-j01
DTSTART;VALUE=DATE:20240311
DTEND;VALUE=DATE:20240312
END:VEVENT
END:VCALENDAR
