BEGIN:VCALENDAR
VERSION:2.0
PRODID:SchoolNow
CALSCALE:GREGORIAN
BEGIN:VEVENT
UID:ec50f1f0-734f-11ee-a9c0-0aeab8a33e23
DTSTAMP:20240130T170334Z
SUMMARY:Spring 2024- Easter Break.  All Campuses Closed.
URL;VALUE=URI:https://www.ladelta.edu/calendar/4899468/2024-spring-easter-b
 reak-all-campuses-closed
DTSTART;VALUE=DATE:20240329
DTEND;VALUE=DATE:20240330
END:VEVENT
END:VCALENDAR
