BEGIN:VCALENDAR
VERSION:2.0
PRODID:SchoolNow
CALSCALE:GREGORIAN
BEGIN:VEVENT
UID:f60e1ede-734f-11ee-bc2d-0a58a9feac02
DTSTAMP:20240130T170409Z
SUMMARY:Spring 2024- Spring Break for students. Monday\, April 1 - Friday\,
  April 5.
URL;VALUE=URI:https://www.ladelta.edu/calendar/4899469/2024-spring-spring-b
 reak-for-students-monday-april-1-friday-april-5
DTSTART;VALUE=DATE:20240401
DTEND;VALUE=DATE:20240406
END:VEVENT
END:VCALENDAR
