BEGIN:VCALENDAR
VERSION:2.0
PRODID:SchoolNow
CALSCALE:GREGORIAN
BEGIN:VEVENT
UID:12eb9d10-7350-11ee-ad3a-0a5cf4152bd5
DTSTAMP:20240130T170421Z
SUMMARY:Spring 2024- Final date to withdraw from a full semester class with
  a grade of 'W."
URL;VALUE=URI:https://www.ladelta.edu/calendar/4899470/2024-spring-final-da
 te-to-withdraw-from-a-full-semester-class-with-a-grade-of-w
DTSTART;VALUE=DATE:20240412
DTEND;VALUE=DATE:20240413
END:VEVENT
END:VCALENDAR
