BEGIN:VCALENDAR
VERSION:2.0
PRODID:SchoolNow
CALSCALE:GREGORIAN
BEGIN:VEVENT
UID:1d557758-7350-11ee-8210-0a58a9feac02
DTSTAMP:20240130T170433Z
SUMMARY:Spring 2024- Final date to withdraw with a 'W' grade from a 2nd hal
 f-term class.
URL;VALUE=URI:https://www.ladelta.edu/calendar/4899471/2024-spring-final-da
 te-to-withdraw-with-a-w-grade-from-a-2nd-half-term-class
DTSTART;VALUE=DATE:20240423
DTEND;VALUE=DATE:20240424
END:VEVENT
END:VCALENDAR
